BEGIN:VCALENDAR
VERSION:2.0
PRODID:-//hacksw/handcal//NONSGML v1.0//EN
CALSCALE:GREGORIAN
BEGIN:VEVENT
LOCATION:
SUMMARY:Tackling energy poverty &#8211\; public policies and interventions in Europe
DESCRIPTION:Tackling energy poverty &#8211\; public policies and interventions in Europe
DTSTART:20211026T103000
DTEND:20211026T113000
URL;VALUE=URI:https://energy-cities.eu/event/tackling-energy-poverty-public-policies-and-interventions-in-europe/
DTSTAMP:now
UID:659776e7bb1d6
END:VEVENT
END:VCALENDAR