BEGIN:VCALENDAR
VERSION:2.0
PRODID:-//hacksw/handcal//NONSGML v1.0//EN
CALSCALE:GREGORIAN
BEGIN:VEVENT
LOCATION:
SUMMARY:Taking your first steps as an energy community
DESCRIPTION:Taking your first steps as an energy community
DTSTART:20230713T100000
DTEND:20230713T111500
URL;VALUE=URI:https://energy-cities.eu/event/taking-your-first-steps-as-an-energy-community/
DTSTAMP:now
UID:65977113c7b19
END:VEVENT
END:VCALENDAR