BEGIN:VCALENDAR
VERSION:2.0
PRODID:-//hacksw/handcal//NONSGML v1.0//EN
CALSCALE:GREGORIAN
BEGIN:VEVENT
LOCATION:
SUMMARY:Tamarinden &#8211\; Where people meet and the buildings share energy
DESCRIPTION:Tamarinden &#8211\; Where people meet and the buildings share energy
DTSTART:20191008T130000
DTEND:20191008T140000
URL;VALUE=URI:https://energy-cities.eu/fr/evenement/tamarinden-where-people-meet-and-the-buildings-share-energy-2/
DTSTAMP:now
UID:65976fb817170
END:VEVENT
END:VCALENDAR