BEGIN:VCALENDAR
VERSION:2.0
PRODID:-//hacksw/handcal//NONSGML v1.0//EN
CALSCALE:GREGORIAN
BEGIN:VEVENT
LOCATION:
SUMMARY:Territoires à énergie positive : quels apports des sciences et de l’innovation ?
DESCRIPTION:Territoires à énergie positive : quels apports des sciences et de l’innovation ?
DTSTART:20210330T000000
DTEND:20210331T000000
URL;VALUE=URI:https://energy-cities.eu/fr/evenement/territoires-a-energie-positive-quels-apports-des-sciences-et-de-linnovation/
DTSTAMP:now
UID:659769f55e83c
END:VEVENT
END:VCALENDAR