BEGIN:VCALENDAR
VERSION:2.0
PRODID:-//hacksw/handcal//NONSGML v1.0//EN
CALSCALE:GREGORIAN
BEGIN:VEVENT
LOCATION:
SUMMARY:The 2030 Climate Target Plan: What will it take to reach the target?
DESCRIPTION:The 2030 Climate Target Plan: What will it take to reach the target?
DTSTART:20201110T140000
DTEND:20201110T151500
URL;VALUE=URI:https://energy-cities.eu/event/the-2030-climate-target-plan-what-will-it-take-to-reach-the-target/
DTSTAMP:now
UID:65976375a1714
END:VEVENT
END:VCALENDAR