BEGIN:VCALENDAR
VERSION:2.0
PRODID:-//hacksw/handcal//NONSGML v1.0//EN
CALSCALE:GREGORIAN
BEGIN:VEVENT
LOCATION:
SUMMARY:The Cities Mission Webinars &#8220\;existing plans\, initiatives\, synergies&#8221\;
DESCRIPTION:The Cities Mission Webinars &#8220\;existing plans\, initiatives\, synergies&#8221\;
DTSTART:20211210T140000
DTEND:20211210T160000
URL;VALUE=URI:https://energy-cities.eu/event/the-cities-mission-webinars-eligibility-climate-neutrality-target-vision-ambition-current-level-of-emissions/
DTSTAMP:now
UID:659770f27801d
END:VEVENT
END:VCALENDAR