BEGIN:VCALENDAR
VERSION:2.0
PRODID:-//hacksw/handcal//NONSGML v1.0//EN
CALSCALE:GREGORIAN
BEGIN:VEVENT
LOCATION:
SUMMARY:The Cities Mission Webinars &#8220\;finance\, governance\, partnerships\, capacity\, barriers\, risk and assistance needs&#8221\;
DESCRIPTION:The Cities Mission Webinars &#8220\;finance\, governance\, partnerships\, capacity\, barriers\, risk and assistance needs&#8221\;
DTSTART:20211215T140000
DTEND:20211215T160000
URL;VALUE=URI:https://energy-cities.eu/event/the-cities-mission-webinars-finance-governance-partnerships-capacity-barriers-risk-and-assistance-needs/
DTSTAMP:now
UID:6597683dc4e11
END:VEVENT
END:VCALENDAR