BEGIN:VCALENDAR
VERSION:2.0
PRODID:-//hacksw/handcal//NONSGML v1.0//EN
CALSCALE:GREGORIAN
BEGIN:VEVENT
LOCATION:
SUMMARY:The Nature of Cities festival
DESCRIPTION:The Nature of Cities festival
DTSTART:20220329T000000
DTEND:20220331T000000
URL;VALUE=URI:https://energy-cities.eu/event/the-nature-of-cities-festival-2/
DTSTAMP:now
UID:65976db147c81
END:VEVENT
END:VCALENDAR