BEGIN:VCALENDAR
VERSION:2.0
PRODID:-//hacksw/handcal//NONSGML v1.0//EN
CALSCALE:GREGORIAN
BEGIN:VEVENT
LOCATION:
SUMMARY:The New EU Bauhaus &#8211\; Energy Cities members only
DESCRIPTION:The New EU Bauhaus &#8211\; Energy Cities members only
DTSTART:20210517T140000
DTEND:20210517T150000
URL;VALUE=URI:https://energy-cities.eu/event/the-new-eu-bauhaus-energy-cities-members-only/
DTSTAMP:now
UID:65977025e0ec5
END:VEVENT
END:VCALENDAR