BEGIN:VCALENDAR
VERSION:2.0
PRODID:-//hacksw/handcal//NONSGML v1.0//EN
CALSCALE:GREGORIAN
BEGIN:VEVENT
LOCATION:
SUMMARY:The New European Bauhaus Festival
DESCRIPTION:The New European Bauhaus Festival
DTSTART:20220609T100000
DTEND:20220612T210000
URL;VALUE=URI:https://energy-cities.eu/event/the-new-european-bauhaus-festival/
DTSTAMP:now
UID:65976faa7dd99
END:VEVENT
END:VCALENDAR