BEGIN:VCALENDAR
VERSION:2.0
PRODID:-//hacksw/handcal//NONSGML v1.0//EN
CALSCALE:GREGORIAN
BEGIN:VEVENT
LOCATION:
SUMMARY:The Nordic way – innovative financing in green/climate projects
DESCRIPTION:The Nordic way – innovative financing in green/climate projects
DTSTART:20201027T100000
DTEND:20201027T120000
URL;VALUE=URI:https://energy-cities.eu/event/the-nordic-way-innovative-financing-in-green-climate-projects/
DTSTAMP:now
UID:659767c88117c
END:VEVENT
END:VCALENDAR