BEGIN:VCALENDAR
VERSION:2.0
PRODID:-//hacksw/handcal//NONSGML v1.0//EN
CALSCALE:GREGORIAN
BEGIN:VEVENT
LOCATION:
SUMMARY:The Parisian experience on the gap between real before and after renovation figures in condominiums
DESCRIPTION:The Parisian experience on the gap between real before and after renovation figures in condominiums
DTSTART:20200319T110000
DTEND:20200319T120000
URL;VALUE=URI:https://energy-cities.eu/event/the-parisian-experience-on-the-gap-between-real-before-and-after-renovation-figures-in-condominiums/
DTSTAMP:now
UID:65976985c782d
END:VEVENT
END:VCALENDAR