BEGIN:VCALENDAR
VERSION:2.0
PRODID:-//hacksw/handcal//NONSGML v1.0//EN
CALSCALE:GREGORIAN
BEGIN:VEVENT
LOCATION:
SUMMARY:The Smart Cities Information System final conference
DESCRIPTION:The Smart Cities Information System final conference
DTSTART:20201104T000000
DTEND:20201105T000000
URL;VALUE=URI:https://energy-cities.eu/event/the-smart-cities-information-system-final-conference/
DTSTAMP:now
UID:65976b07d4867
END:VEVENT
END:VCALENDAR