BEGIN:VCALENDAR
VERSION:2.0
PRODID:-//hacksw/handcal//NONSGML v1.0//EN
CALSCALE:GREGORIAN
BEGIN:VEVENT
LOCATION:
SUMMARY:The design of the next EU energy market(s): what works for local renewables?
DESCRIPTION:The design of the next EU energy market(s): what works for local renewables?
DTSTART:20230215T140000
DTEND:20230215T153000
URL;VALUE=URI:https://energy-cities.eu/event/the-design-of-the-next-eu-energy-markets-what-works-for-local-renewables/
DTSTAMP:now
UID:65976a37a5af5
END:VEVENT
END:VCALENDAR