BEGIN:VCALENDAR
VERSION:2.0
PRODID:-//hacksw/handcal//NONSGML v1.0//EN
CALSCALE:GREGORIAN
BEGIN:VEVENT
LOCATION:
SUMMARY:The nature of cities festival
DESCRIPTION:The nature of cities festival
DTSTART:20210223T000000
DTEND:20210226T000000
URL;VALUE=URI:https://energy-cities.eu/event/the-nature-of-cities-festival/
DTSTAMP:now
UID:65977222aa9c5
END:VEVENT
END:VCALENDAR