BEGIN:VCALENDAR
VERSION:2.0
PRODID:-//hacksw/handcal//NONSGML v1.0//EN
CALSCALE:GREGORIAN
BEGIN:VEVENT
LOCATION:
SUMMARY:The role of National Energy and Climate Plans in the post-COVID recovery
DESCRIPTION:The role of National Energy and Climate Plans in the post-COVID recovery
DTSTART:20200629T100000
DTEND:20200629T113000
URL;VALUE=URI:https://energy-cities.eu/event/the-role-of-national-energy-and-climate-plans-in-the-post-covid-recovery/
DTSTAMP:now
UID:659770ec01db2
END:VEVENT
END:VCALENDAR