BEGIN:VCALENDAR
VERSION:2.0
PRODID:-//hacksw/handcal//NONSGML v1.0//EN
CALSCALE:GREGORIAN
BEGIN:VEVENT
LOCATION:
SUMMARY:Tour de France de la transition énergétique
DESCRIPTION:Tour de France de la transition énergétique
DTSTART:20210629T104500
DTEND:20210629T114500
URL;VALUE=URI:https://energy-cities.eu/fr/evenement/tour-de-france-der-energiewende/
DTSTAMP:now
UID:6597658c6e18c
END:VEVENT
END:VCALENDAR