BEGIN:VCALENDAR
VERSION:2.0
PRODID:-//hacksw/handcal//NONSGML v1.0//EN
CALSCALE:GREGORIAN
BEGIN:VEVENT
LOCATION:
SUMMARY:Tour de France der Energiewende
DESCRIPTION:Tour de France der Energiewende
DTSTART:20210629T000000
DTEND:20210629T000000
URL;VALUE=URI:https://energy-cities.eu/event/tour-de-france-der-energiewende/
DTSTAMP:now
UID:659768b4476bb
END:VEVENT
END:VCALENDAR