BEGIN:VCALENDAR
VERSION:2.0
PRODID:-//hacksw/handcal//NONSGML v1.0//EN
CALSCALE:GREGORIAN
BEGIN:VEVENT
LOCATION:
SUMMARY:Towards climate-resilient cities and regions &#8211\; Virtual session
DESCRIPTION:Towards climate-resilient cities and regions &#8211\; Virtual session
DTSTART:20201002T143000
DTEND:20201002T160000
URL;VALUE=URI:https://energy-cities.eu/event/towards-climate-resilient-cities-and-regions-virtual-session/
DTSTAMP:now
UID:659770a66060b
END:VEVENT
END:VCALENDAR