BEGIN:VCALENDAR
VERSION:2.0
PRODID:-//hacksw/handcal//NONSGML v1.0//EN
CALSCALE:GREGORIAN
BEGIN:VEVENT
LOCATION:
SUMMARY:Transformation of Historic Urban Areas
DESCRIPTION:Transformation of Historic Urban Areas
DTSTART:20200930T000000
DTEND:20200930T000000
URL;VALUE=URI:https://energy-cities.eu/event/transformation-of-historic-urban-areas/
DTSTAMP:now
UID:65976519e1c51
END:VEVENT
END:VCALENDAR