BEGIN:VCALENDAR
VERSION:2.0
PRODID:-//hacksw/handcal//NONSGML v1.0//EN
CALSCALE:GREGORIAN
BEGIN:VEVENT
LOCATION:
SUMMARY:Transforming towards energy democracies
DESCRIPTION:Transforming towards energy democracies
DTSTART:20201020T110000
DTEND:20201020T123000
URL;VALUE=URI:https://energy-cities.eu/event/transforming-towards-energy-democracies/
DTSTAMP:now
UID:65976f33c6e2f
END:VEVENT
END:VCALENDAR