BEGIN:VCALENDAR
VERSION:2.0
PRODID:-//hacksw/handcal//NONSGML v1.0//EN
CALSCALE:GREGORIAN
BEGIN:VEVENT
LOCATION:
SUMMARY:Transition énergétique : Comment favoriser et pérenniser la coopération multi-acteurs ?
DESCRIPTION:Transition énergétique : Comment favoriser et pérenniser la coopération multi-acteurs ?
DTSTART:20230126T123000
DTEND:20230126T140000
URL;VALUE=URI:https://energy-cities.eu/fr/evenement/transition-energetique-comment-favoriser-et-perenniser-la-cooperation-multi-acteurs/
DTSTAMP:now
UID:659769245636a
END:VEVENT
END:VCALENDAR