BEGIN:VCALENDAR
VERSION:2.0
PRODID:-//hacksw/handcal//NONSGML v1.0//EN
CALSCALE:GREGORIAN
BEGIN:VEVENT
LOCATION:
SUMMARY:Transition management for cities
DESCRIPTION:Transition management for cities
DTSTART:20220331T160000
DTEND:20220331T173000
URL;VALUE=URI:https://energy-cities.eu/event/transition-management-for-cities/
DTSTAMP:now
UID:6597699716a9b
END:VEVENT
END:VCALENDAR