BEGIN:VCALENDAR
VERSION:2.0
PRODID:-//hacksw/handcal//NONSGML v1.0//EN
CALSCALE:GREGORIAN
BEGIN:VEVENT
LOCATION:
SUMMARY:Transition strategies and Governance of transitions &#8211\; Platform for coal regions in transition
DESCRIPTION:Transition strategies and Governance of transitions &#8211\; Platform for coal regions in transition
DTSTART:20200526T140000
DTEND:20200526T153000
URL;VALUE=URI:https://energy-cities.eu/event/transition-strategies-and-governance-of-transitions-platform-for-coal-regions-in-transition/
DTSTAMP:now
UID:65976f0628ec8
END:VEVENT
END:VCALENDAR