BEGIN:VCALENDAR
VERSION:2.0
PRODID:-//hacksw/handcal//NONSGML v1.0//EN
CALSCALE:GREGORIAN
BEGIN:VEVENT
LOCATION:
SUMMARY:Travel Transitions: Responding to Shifting Mobility Trends
DESCRIPTION:Travel Transitions: Responding to Shifting Mobility Trends
DTSTART:20210920T100000
DTEND:20210920T110000
URL;VALUE=URI:https://energy-cities.eu/event/ravel-transitions-responding-to-shifting-mobility-trends/
DTSTAMP:now
UID:659770dcbaec7
END:VEVENT
END:VCALENDAR