BEGIN:VCALENDAR
VERSION:2.0
PRODID:-//hacksw/handcal//NONSGML v1.0//EN
CALSCALE:GREGORIAN
BEGIN:VEVENT
LOCATION:
SUMMARY:Tricky details of renovation one-stop-shops: The one event every city needs to attend to boost energy retrofits
DESCRIPTION:Tricky details of renovation one-stop-shops: The one event every city needs to attend to boost energy retrofits
DTSTART:20200921T140000
DTEND:20200921T163000
URL;VALUE=URI:https://energy-cities.eu/event/tricky-details-of-renovation-one-stop-shops-the-one-event-every-city-needs-to-attend-to-boost-energy-retrofits/
DTSTAMP:now
UID:6597687094468
END:VEVENT
END:VCALENDAR