BEGIN:VCALENDAR
VERSION:2.0
PRODID:-//hacksw/handcal//NONSGML v1.0//EN
CALSCALE:GREGORIAN
BEGIN:VEVENT
LOCATION:
SUMMARY:UDN webinars #1. STRATEGY. Co-creating robust urban development strategies
DESCRIPTION:UDN webinars #1. STRATEGY. Co-creating robust urban development strategies
DTSTART:20201103T100000
DTEND:20201103T120000
URL;VALUE=URI:https://energy-cities.eu/event/udn-webinars-1-strategy-co-creating-robust-urban-development-strategies/
DTSTAMP:now
UID:6597663e6cd4b
END:VEVENT
END:VCALENDAR