BEGIN:VCALENDAR
VERSION:2.0
PRODID:-//hacksw/handcal//NONSGML v1.0//EN
CALSCALE:GREGORIAN
BEGIN:VEVENT
LOCATION:
SUMMARY:UDN webinars #2. TERRITORIAL FOCUS. Defining the right spatial dimension for your urban strategy
DESCRIPTION:UDN webinars #2. TERRITORIAL FOCUS. Defining the right spatial dimension for your urban strategy
DTSTART:20201109T100000
DTEND:20201109T120000
URL;VALUE=URI:https://energy-cities.eu/event/udn-webinars-2-territorial-focus-defining-the-right-spatial-dimension-for-your-urban-strategy/
DTSTAMP:now
UID:6597704f10156
END:VEVENT
END:VCALENDAR