BEGIN:VCALENDAR
VERSION:2.0
PRODID:-//hacksw/handcal//NONSGML v1.0//EN
CALSCALE:GREGORIAN
BEGIN:VEVENT
LOCATION:
SUMMARY:UDN webinars #3. GOVERNANCE. Facilitating effective and inclusive decision making
DESCRIPTION:UDN webinars #3. GOVERNANCE. Facilitating effective and inclusive decision making
DTSTART:20201113T100000
DTEND:20201113T120000
URL;VALUE=URI:https://energy-cities.eu/event/udn-webinars-3-governance-facilitating-effective-and-inclusive-decision-making/
DTSTAMP:now
UID:6597640665320
END:VEVENT
END:VCALENDAR