BEGIN:VCALENDAR
VERSION:2.0
PRODID:-//hacksw/handcal//NONSGML v1.0//EN
CALSCALE:GREGORIAN
BEGIN:VEVENT
LOCATION:
SUMMARY:UDN webinars #4. INTEGRATION. Achieving cross-sectoral integration
DESCRIPTION:UDN webinars #4. INTEGRATION. Achieving cross-sectoral integration
DTSTART:20201117T100000
DTEND:20201117T120000
URL;VALUE=URI:https://energy-cities.eu/event/udn-webinars-4-integration-achieving-cross-sectoral-integration/
DTSTAMP:now
UID:659765150d0be
END:VEVENT
END:VCALENDAR