BEGIN:VCALENDAR
VERSION:2.0
PRODID:-//hacksw/handcal//NONSGML v1.0//EN
CALSCALE:GREGORIAN
BEGIN:VEVENT
LOCATION:
SUMMARY:UDN webinars #5. FUNDING. Multiple funding sources as the key for integration and sustainability
DESCRIPTION:UDN webinars #5. FUNDING. Multiple funding sources as the key for integration and sustainability
DTSTART:20201119T100000
DTEND:20201119T120000
URL;VALUE=URI:https://energy-cities.eu/event/udn-webinars-5-funding-multiple-funding-sources-as-the-key-for-integration-and-sustainability/
DTSTAMP:now
UID:65976dc87f82b
END:VEVENT
END:VCALENDAR