BEGIN:VCALENDAR
VERSION:2.0
PRODID:-//hacksw/handcal//NONSGML v1.0//EN
CALSCALE:GREGORIAN
BEGIN:VEVENT
LOCATION:
SUMMARY:UDN webinars #6. MONITORING. Measuring progress towards your goals
DESCRIPTION:UDN webinars #6. MONITORING. Measuring progress towards your goals
DTSTART:20201125T100000
DTEND:20201125T120000
URL;VALUE=URI:https://energy-cities.eu/event/udn-webinars-6-monitoring-measuring-progress-towards-your-goals/
DTSTAMP:now
UID:6597714d67b75
END:VEVENT
END:VCALENDAR