BEGIN:VCALENDAR
VERSION:2.0
PRODID:-//hacksw/handcal//NONSGML v1.0//EN
CALSCALE:GREGORIAN
BEGIN:VEVENT
LOCATION:
SUMMARY:UIA webinars #1 : Achievements. What has been achieved so far?
DESCRIPTION:UIA webinars #1 : Achievements. What has been achieved so far?
DTSTART:20210203T100000
DTEND:20210203T003000
URL;VALUE=URI:https://energy-cities.eu/event/uia-webinars-1-achievements-what-has-been-achieved-so-far/
DTSTAMP:now
UID:6597769e729d0
END:VEVENT
END:VCALENDAR