BEGIN:VCALENDAR
VERSION:2.0
PRODID:-//hacksw/handcal//NONSGML v1.0//EN
CALSCALE:GREGORIAN
BEGIN:VEVENT
LOCATION:
SUMMARY:UIA webinars #2 : UIA &#038\; Cohesion Policy. Bridging UIA &#038\; Cohesion Policy\; how to optimize UIA added value?
DESCRIPTION:UIA webinars #2 : UIA &#038\; Cohesion Policy. Bridging UIA &#038\; Cohesion Policy\; how to optimize UIA added value?
DTSTART:20210210T100000
DTEND:20210210T123000
URL;VALUE=URI:https://energy-cities.eu/event/uia-webinars-2-uia-how-to-optimize-uia-added-value/
DTSTAMP:now
UID:65976aa681960
END:VEVENT
END:VCALENDAR