BEGIN:VCALENDAR
VERSION:2.0
PRODID:-//hacksw/handcal//NONSGML v1.0//EN
CALSCALE:GREGORIAN
BEGIN:VEVENT
LOCATION:
SUMMARY:UIA webinars #3 : Future UIA. What comes next as a new model for innovative actions under the European Urban Initiative 2021/27?
DESCRIPTION:UIA webinars #3 : Future UIA. What comes next as a new model for innovative actions under the European Urban Initiative 2021/27?
DTSTART:20210217T100000
DTEND:20210217T123000
URL;VALUE=URI:https://energy-cities.eu/event/uia-webinars-3-future-uia-what-comes-next-as-a-new-model-for-innovative-actions-under-the-european-urban-initiative-2021-27/
DTSTAMP:now
UID:65976da43d5a2
END:VEVENT
END:VCALENDAR