BEGIN:VCALENDAR
VERSION:2.0
PRODID:-//hacksw/handcal//NONSGML v1.0//EN
CALSCALE:GREGORIAN
BEGIN:VEVENT
LOCATION:
SUMMARY:Un projet citoyen d’énergie renouvelable sur mon territoire – comment ça marche ?
DESCRIPTION:Un projet citoyen d’énergie renouvelable sur mon territoire – comment ça marche ?
DTSTART:20210408T120000
DTEND:20210425T133000
URL;VALUE=URI:https://energy-cities.eu/fr/evenement/un-projet-citoyen-denergie-renouvelable-sur-mon-territoire-comment-ca-marche/
DTSTAMP:now
UID:659777caea7e7
END:VEVENT
END:VCALENDAR