BEGIN:VCALENDAR
VERSION:2.0
PRODID:-//hacksw/handcal//NONSGML v1.0//EN
CALSCALE:GREGORIAN
BEGIN:VEVENT
LOCATION:
SUMMARY:Une communication créative sur le changement climatique
DESCRIPTION:Une communication créative sur le changement climatique
DTSTART:20190916T103000
DTEND:20190916T120000
URL;VALUE=URI:https://energy-cities.eu/fr/evenement/une-communication-creative-sur-le-changement-climatique/
DTSTAMP:now
UID:65976668ed103
END:VEVENT
END:VCALENDAR