BEGIN:VCALENDAR
VERSION:2.0
PRODID:-//hacksw/handcal//NONSGML v1.0//EN
CALSCALE:GREGORIAN
BEGIN:VEVENT
LOCATION:
SUMMARY:Urban Community Transitions: Linking local actions with European ambitions
DESCRIPTION:Urban Community Transitions: Linking local actions with European ambitions
DTSTART:20201022T100000
DTEND:20201022T163000
URL;VALUE=URI:https://energy-cities.eu/event/urban-community-transitions-linking-local-actions-with-european-ambitions/
DTSTAMP:now
UID:659777806c439
END:VEVENT
END:VCALENDAR