BEGIN:VCALENDAR
VERSION:2.0
PRODID:-//hacksw/handcal//NONSGML v1.0//EN
CALSCALE:GREGORIAN
BEGIN:VEVENT
LOCATION:
SUMMARY:Urban Living Labs: Let’s co-create! But how to start?
DESCRIPTION:Urban Living Labs: Let’s co-create! But how to start?
DTSTART:20220608T093000
DTEND:20220609T000000
URL;VALUE=URI:https://energy-cities.eu/event/urban-living-labs-lets-co-create-but-how-to-start/
DTSTAMP:now
UID:65976e5d3754f
END:VEVENT
END:VCALENDAR