BEGIN:VCALENDAR
VERSION:2.0
PRODID:-//hacksw/handcal//NONSGML v1.0//EN
CALSCALE:GREGORIAN
BEGIN:VEVENT
LOCATION:
SUMMARY:Urban Lunch Talk #15 – Taking action in capacity building for sustainable futures
DESCRIPTION:Urban Lunch Talk #15 – Taking action in capacity building for sustainable futures
DTSTART:20201204T130000
DTEND:20201204T140000
URL;VALUE=URI:https://energy-cities.eu/event/urban-lunch-talk-15-taking-action-in-capacity-building-for-sustainable-futures/
DTSTAMP:now
UID:65976eb434726
END:VEVENT
END:VCALENDAR