BEGIN:VCALENDAR
VERSION:2.0
PRODID:-//hacksw/handcal//NONSGML v1.0//EN
CALSCALE:GREGORIAN
BEGIN:VEVENT
LOCATION:
SUMMARY:Urban Lunch Talk #17: Regenerative Green Neighbourhoods and Circularity Transitions – The Do’s\, Don’ts and Dilemmas
DESCRIPTION:Urban Lunch Talk #17: Regenerative Green Neighbourhoods and Circularity Transitions – The Do’s\, Don’ts and Dilemmas
DTSTART:20210416T130000
DTEND:20210416T140000
URL;VALUE=URI:https://energy-cities.eu/event/urban-lunch-talk-17-regenerative-green-neighbourhoods-and-circularity-transitions-the-dos-donts-and-dilemmas/
DTSTAMP:now
UID:659769cc888eb
END:VEVENT
END:VCALENDAR