BEGIN:VCALENDAR
VERSION:2.0
PRODID:-//hacksw/handcal//NONSGML v1.0//EN
CALSCALE:GREGORIAN
BEGIN:VEVENT
LOCATION:
SUMMARY:Urban Lunch Talk #18: 15-minute cities – Do’s\, don’ts and dilemmas
DESCRIPTION:Urban Lunch Talk #18: 15-minute cities – Do’s\, don’ts and dilemmas
DTSTART:20210528T130000
DTEND:20210528T140000
URL;VALUE=URI:https://energy-cities.eu/event/urban-lunch-talk-18-15-minute-cities-dos-donts-and-dilemmas/
DTSTAMP:now
UID:659771fdeef71
END:VEVENT
END:VCALENDAR