BEGIN:VCALENDAR
VERSION:2.0
PRODID:-//hacksw/handcal//NONSGML v1.0//EN
CALSCALE:GREGORIAN
BEGIN:VEVENT
LOCATION:
SUMMARY:Urban Lunch Talk 13: Taking action on the resilience-robustness dilemma. Is it time to move beyond the smart city- what is it like over there?
DESCRIPTION:Urban Lunch Talk 13: Taking action on the resilience-robustness dilemma. Is it time to move beyond the smart city- what is it like over there?
DTSTART:20200605T123000
DTEND:20200605T140000
URL;VALUE=URI:https://energy-cities.eu/event/urban-lunch-talk-12-taking-action-on-the-urban-land-use-and-infrastructure-dilemma/
DTSTAMP:now
UID:6597700584738
END:VEVENT
END:VCALENDAR