BEGIN:VCALENDAR
VERSION:2.0
PRODID:-//hacksw/handcal//NONSGML v1.0//EN
CALSCALE:GREGORIAN
BEGIN:VEVENT
LOCATION:
SUMMARY:Urban Mobility Days 2020
DESCRIPTION:Urban Mobility Days 2020
DTSTART:20200929T000000
DTEND:20201002T000000
URL;VALUE=URI:https://energy-cities.eu/event/urban-mobility-days-2020/
DTSTAMP:now
UID:6597719cea4b3
END:VEVENT
END:VCALENDAR