BEGIN:VCALENDAR
VERSION:2.0
PRODID:-//hacksw/handcal//NONSGML v1.0//EN
CALSCALE:GREGORIAN
BEGIN:VEVENT
LOCATION:
SUMMARY:Utilitising European technical assistance for municipal retrofits
DESCRIPTION:Utilitising European technical assistance for municipal retrofits
DTSTART:20210908T040000
DTEND:20210908T170000
URL;VALUE=URI:https://energy-cities.eu/event/utilitising-european-technical-assistance-for-municipal-retrofits/
DTSTAMP:now
UID:659763a8c01ce
END:VEVENT
END:VCALENDAR