BEGIN:VCALENDAR
VERSION:2.0
PRODID:-//hacksw/handcal//NONSGML v1.0//EN
CALSCALE:GREGORIAN
BEGIN:VEVENT
LOCATION:
SUMMARY:Venice City Solutions 2018 &#8211\; Financing the SDGs at local level
DESCRIPTION:Venice City Solutions 2018 &#8211\; Financing the SDGs at local level
DTSTART:20190328T090000
DTEND:20190328T200000
URL;VALUE=URI:https://energy-cities.eu/event/venice-city-solutions-2018-financing-the-sdgs-at-local-level/
DTSTAMP:now
UID:65976b1c676a3
END:VEVENT
END:VCALENDAR