BEGIN:VCALENDAR
VERSION:2.0
PRODID:-//hacksw/handcal//NONSGML v1.0//EN
CALSCALE:GREGORIAN
BEGIN:VEVENT
LOCATION:
SUMMARY:Villes 100% ENR &#8211\; 5 ans après l’accord de Paris\, promesse tenue ?
DESCRIPTION:Villes 100% ENR &#8211\; 5 ans après l’accord de Paris\, promesse tenue ?
DTSTART:20210401T103000
DTEND:20210401T120000
URL;VALUE=URI:https://energy-cities.eu/fr/evenement/villes-100-enr-5-ans-apres-laccord-de-paris-promesse-tenue/
DTSTAMP:now
UID:65977798834bf
END:VEVENT
END:VCALENDAR