BEGIN:VCALENDAR
VERSION:2.0
PRODID:-//hacksw/handcal//NONSGML v1.0//EN
CALSCALE:GREGORIAN
BEGIN:VEVENT
LOCATION:
SUMMARY:Virtual ManagEnergy Talk with Cara Augustenborg
DESCRIPTION:Virtual ManagEnergy Talk with Cara Augustenborg
DTSTART:20200911T100000
DTEND:20200911T110000
URL;VALUE=URI:https://energy-cities.eu/event/virtual-managenergy-talk-with-cara-augustenborg/
DTSTAMP:now
UID:65976c399f3cc
END:VEVENT
END:VCALENDAR