BEGIN:VCALENDAR
VERSION:2.0
PRODID:-//hacksw/handcal//NONSGML v1.0//EN
CALSCALE:GREGORIAN
BEGIN:VEVENT
LOCATION:
SUMMARY:Virtual Peer Learning on Sustainable Financing
DESCRIPTION:Virtual Peer Learning on Sustainable Financing
DTSTART:20201022T093000
DTEND:20201022T123000
URL;VALUE=URI:https://energy-cities.eu/event/virtual-peer-learning-on-sustainable-financing/
DTSTAMP:now
UID:659776a823cec
END:VEVENT
END:VCALENDAR