BEGIN:VCALENDAR
VERSION:2.0
PRODID:-//hacksw/handcal//NONSGML v1.0//EN
CALSCALE:GREGORIAN
BEGIN:VEVENT
LOCATION:
SUMMARY:Visio-débat « Responsabilité territoriale et entreprise: l’économie sociale face à la transition sociale et écologique »
DESCRIPTION:Visio-débat « Responsabilité territoriale et entreprise: l’économie sociale face à la transition sociale et écologique »
DTSTART:20200528T170000
DTEND:20200528T190000
URL;VALUE=URI:https://energy-cities.eu/fr/evenement/visio-debat-responsabilite-territoriale-et-entreprise-leconomie-sociale-face-a-la-transition-sociale-et-ecologique/
DTSTAMP:now
UID:6597710e9345c
END:VEVENT
END:VCALENDAR